BEGIN:VCALENDAR
VERSION:2.0
PRODID:-//Bollenstreek - ECPv6.2.2//NONSGML v1.0//EN
CALSCALE:GREGORIAN
METHOD:PUBLISH
X-ORIGINAL-URL:https://bollenstreek.nl/?lang=es
X-WR-CALDESC:Eventos para Bollenstreek
REFRESH-INTERVAL;VALUE=DURATION:PT1H
X-Robots-Tag:noindex
X-PUBLISHED-TTL:PT1H
BEGIN:VTIMEZONE
TZID:Europe/Helsinki
BEGIN:DAYLIGHT
TZOFFSETFROM:+0200
TZOFFSETTO:+0300
TZNAME:EEST
DTSTART:20240331T010000
END:DAYLIGHT
BEGIN:STANDARD
TZOFFSETFROM:+0300
TZOFFSETTO:+0200
TZNAME:EET
DTSTART:20241027T010000
END:STANDARD
TZID:Europe/Paris
BEGIN:DAYLIGHT
TZOFFSETFROM:+0100
TZOFFSETTO:+0200
TZNAME:CEST
DTSTART:20240331T010000
END:DAYLIGHT
BEGIN:STANDARD
TZOFFSETFROM:+0200
TZOFFSETTO:+0100
TZNAME:CET
DTSTART:20241027T010000
END:STANDARD
END:VTIMEZONE
BEGIN:VEVENT
DTSTART;TZID=Europe/Helsinki:20240406T100000
DTEND;TZID=Europe/Helsinki:20240406T170000
DTSTAMP:20260419T154926
CREATED:20220128T100944Z
LAST-MODIFIED:20240405T083532Z
UID:10000377-1712397600-1712422800@bollenstreek.nl
SUMMARY:Vuelo en helicóptero sobre campos de flores
DESCRIPTION:Volez en hélicoptère au-dessus des champs de fleurs de Keukenhof pendant le week-end de Pâques.\n\n\n\nEl sábado 6 de abril se podrá volver a realizar un vuelo en helicóptero sobre los campos de tulipanes del parque floral de Keukenhof. Disfrute de una vista única sobre la Bollenstreek. Sólo hay siete días de vuelo en 2024. \n\n\n\n\n\nYa se pueden reservar billetes de helicóptero \n\n\n\n\n\nPrecio del vuelo en helicóptero\n\n\n\nDuración del vuelo en helicópteroPrecio10 minutos de vuelo en helicóptero€ 159\,00Comprar billete15 minutos de vuelo en helicóptero€ 235\,00Comprar billete\n\n\n\n    \n    Reserve su vuelo en helicóptero\n    \n\n\nDisponibilidad de vuelo en helicóptero\n\n\n\nLos vuelos en helicóptero son muy populares entre los visitantes (internacionales) cada primavera. Por ello\, le recomendamos que reserve su vuelo en helicóptero con tiempo. De este modo\, puede estar seguro de que podrá realizar un vuelo por encima de los campos de flores. A continuación puede ver si el vuelo está todavía disponible y reservar su vuelo de inmediato. \n\n\n\n\n\n\n\nUbicación del helicóptero\n\n\n\nEl helicóptero despega de un lugar diferente cada fin de semana. Todos los lugares están cerca del parque floral de Keukenhof y disponen de aparcamiento gratuito. La ubicación exacta del helicóptero se anunciará por correo electrónico una semana antes del viaje. \n\n\n\n\n\n\n\n\n\n\n\n\nConsejos para su visita a la Bollenstreek\n\n\n\nVen y diviértete entre la playa y la ciudad y descubre Holanda desde la región de vacaciones más hermosa de los Países Bajos. Echa un vistazo a nuestros consejos a continuación y ven a disfrutar. \n\n\n\n\nRespirar el aire marino saludable y disfrutar de la playa y las dunas en los Países Bajos\n\n\n\nDisfruta de los coloridos campos de bulbos en los Países Bajos y Keukenhof\n\n\n\nDescubra los verdaderos Países Bajos en los Polders & Ponds en los Países Bajos\n\n\n\n¿Un día en la ciudad? Alrededor de la Bollenstreek se encuentran no menos de ocho ciudades históricas\n\n\n\n¿Un día libre? Lea nuestros consejos para un día de fiesta…\n\n\n\nEcha un vistazo a uno de los muchos museos de la Bollenstreek y sus alrededores.\n\n\n\n¿Te apetece un día activo? Disfruta de una de las rutas de ciclismo y caminata
URL:https://bollenstreek.nl/uitagenda/vol-en-helicoptere-au-dessus-des-champs-de-tulipes-pendant-le-week-end-de-paques/
LOCATION:Keukenhof\, Stationsweg 166A\, Lisse\, Zuid Holland\, 2161 AM\, Nederland
ATTACH;FMTTYPE=image/png:https://bollenstreek.nl/wp-content/uploads/2015/03/Schermafdruk-2015-03-13-11.09.17.png
GEO:52.2682313;4.5438431
X-APPLE-STRUCTURED-LOCATION;VALUE=URI;X-ADDRESS=Keukenhof Stationsweg 166A Lisse Zuid Holland 2161 AM Nederland;X-APPLE-RADIUS=500;X-TITLE=Stationsweg 166A:geo:4.5438431,52.2682313
END:VEVENT
BEGIN:VEVENT
DTSTART;TZID=Europe/Helsinki:20240417T080000
DTEND;TZID=Europe/Helsinki:20240417T193000
DTSTAMP:20260419T154926
CREATED:20250123T090200Z
LAST-MODIFIED:20250203T094728Z
UID:10000388-1713340800-1713382200@bollenstreek.nl
SUMMARY:La tarde de Miffy en Keukenhof
DESCRIPTION:Miffy visita Keukenhof\n\n\n\nMiffy es siempre una invitada bienvenida en el parque floral de Keukenhof. El parque de flores tiene una tienda especial de Miffy y un parque infantil de Miffy. El miércoles 16 de abril hay una tarde especial en la que Miffy es el centro. ¿Quieres venir a saludar a Miffy? \n\n\n\nLa tarde de Miffy en el parque floral de Keukenhof no tiene ningún coste adicional. Es necesario reservar las entradas de Keukenhof con antelación. Al reservar sus entradas para Keukenhof\, debe seleccionar el día y la hora en que desea entrar en el parque. En 2025\, Keukenhof funcionará con un número máximo de entradas por día y hora de entrada. Así que reserve sus entradas con tiempo. \n\n\n\nTipo de entrada a KeukenhofPrecio en líneaEn taquillaAdultos (18+)21\,50 €25\,00 €Comprar boletosNiños (4-17)10\,00 €14\,00 €Comprar boletosNiños (0-3)GratisGratisAparcamiento (día)12\,00 €14\,00 €Comprar boletos
URL:https://bollenstreek.nl/uitagenda/la-tarde-de-miffy-en-keukenhof/
LOCATION:Keukenhof\, Stationsweg 166A\, Lisse\, Zuid Holland\, 2161 AM\, Nederland
ATTACH;FMTTYPE=image/jpeg:https://bollenstreek.nl/wp-content/uploads/2022/03/Nijntje-Keukenhof.jpeg
GEO:52.2682313;4.5438431
X-APPLE-STRUCTURED-LOCATION;VALUE=URI;X-ADDRESS=Keukenhof Stationsweg 166A Lisse Zuid Holland 2161 AM Nederland;X-APPLE-RADIUS=500;X-TITLE=Stationsweg 166A:geo:4.5438431,52.2682313
END:VEVENT
BEGIN:VEVENT
DTSTART;TZID=Europe/Helsinki:20240426T100000
DTEND;TZID=Europe/Helsinki:20240426T170000
DTSTAMP:20260419T154926
CREATED:20220128T112839Z
LAST-MODIFIED:20240408T102602Z
UID:10000180-1714125600-1714150800@bollenstreek.nl
SUMMARY:Vuelo en helicóptero sobre los campos de tulipanes
DESCRIPTION:Vlieg in april mee met de helikopter boven de bloemenvelden bij Keukenhof\n\n\n\nEn abril de 2024\, volverá a ser posible sobrevolar en helicóptero los campos de tulipanes del parque floral de Keukenhof. Disfrute de una vista única sobre la Bollenstreek. Sólo hay 7 días de vuelo en 2024\, siendo el 26 de abril el último día de vuelo de la temporada. \n\n\n\n\n\nYa se pueden reservar billetes de helicóptero \n\n\n\n\n\nPrecio del vuelo en helicóptero\n\n\n\nDuración del vuelo en helicópteroPrecio por persona10 minutos de vuelo en helicóptero€ 159\,00Comprar billete15 minutos de vuelo en helicóptero€ 235\,00Comprar billete\n\n\n\n    \n    Reserve su vuelo en helicóptero\n    \n\n\nDisponibilidad de vuelo en helicóptero\n\n\n\nLos vuelos en helicóptero son muy populares entre los visitantes (internacionales) cada primavera. Por ello\, le recomendamos que reserve su vuelo en helicóptero con tiempo. De este modo\, puede estar seguro de que podrá realizar un vuelo por encima de los campos de flores. A continuación puede ver si el vuelo está todavía disponible y reservar su vuelo de inmediato. \n\n\n\n\n\n\n\nUbicación del helicóptero\n\n\n\nEl helicóptero despega de un lugar diferente cada fin de semana. Todos los lugares están cerca del parque floral de Keukenhof y disponen de aparcamiento gratuito. La ubicación exacta del helicóptero se anunciará por correo electrónico una semana antes del viaje. \n\n\n\n\n\n\n\n\n\n\n\n\nConsejos para su visita a la Bollenstreek\n\n\n\nVen y diviértete entre la playa y la ciudad y descubre Holanda desde la región de vacaciones más hermosa de los Países Bajos. Echa un vistazo a nuestros consejos a continuación y ven a disfrutar. \n\n\n\n\nRespirar el aire marino saludable y disfrutar de la playa y las dunas en los Países Bajos\n\n\n\nDisfruta de los coloridos campos de bulbos en los Países Bajos y Keukenhof\n\n\n\nDescubra los verdaderos Países Bajos en los Polders & Ponds en los Países Bajos\n\n\n\n¿Un día en la ciudad? Alrededor de la Bollenstreek se encuentran no menos de ocho ciudades históricas\n\n\n\n¿Un día libre? Lea nuestros consejos para un día de fiesta…\n\n\n\nEcha un vistazo a uno de los muchos museos de la Bollenstreek y sus alrededores.\n\n\n\n¿Te apetece un día activo? Disfruta de una de las rutas de ciclismo y caminata
URL:https://bollenstreek.nl/uitagenda/vuelo-en-helicoptero-sobre-los-campos-de-tulipanes/
LOCATION:Keukenhof\, Stationsweg 166A\, Lisse\, Zuid Holland\, 2161 AM\, Nederland
ATTACH;FMTTYPE=image/png:https://bollenstreek.nl/wp-content/uploads/2015/03/Schermafdruk-2015-03-13-11.09.17.png
GEO:52.2682313;4.5438431
X-APPLE-STRUCTURED-LOCATION;VALUE=URI;X-ADDRESS=Keukenhof Stationsweg 166A Lisse Zuid Holland 2161 AM Nederland;X-APPLE-RADIUS=500;X-TITLE=Stationsweg 166A:geo:4.5438431,52.2682313
END:VEVENT
BEGIN:VEVENT
DTSTART;TZID=Europe/Paris:20240427T080000
DTEND;TZID=Europe/Paris:20240427T193000
DTSTAMP:20260419T154926
CREATED:20181003T092924Z
LAST-MODIFIED:20250203T120404Z
UID:10000231-1714204800-1714246200@bollenstreek.nl
SUMMARY:Día del Rey en el Parque Floral de Keukenhof
DESCRIPTION:En este día festivo\, toda Holanda\, así como Keukenhof\, celebra el cumpleaños del rey con actividades típicamente holandesas. \n\n\n\nKeukenhof ticketOnline prijsKassa prijsVolwassenen (18+)€ 21\,50€ 25\,00Koop ticketsKinderen (4-17)€ 10\,00€ 14\,00Koop ticketsKinderen (0-3)GratisGratisDagkaart parkeren€ 12\,00€ 14\,00Koop tickets\n\n\n\n \n\n\n\n\n\n\n\n\n\n\nConsejos para su visita a la Bollenstreek\n\n\n\nVen y diviértete entre la playa y la ciudad y descubre Holanda desde la región de vacaciones más hermosa de los Países Bajos. Echa un vistazo a nuestros consejos a continuación y ven a disfrutar. \n\n\n\n\nRespirar el aire marino saludable y disfrutar de la playa y las dunas en los Países Bajos\n\n\n\nDisfruta de los coloridos campos de bulbos en los Países Bajos y Keukenhof\n\n\n\nDescubra los verdaderos Países Bajos en los Polders & Ponds en los Países Bajos\n\n\n\n¿Un día en la ciudad? Alrededor de la Bollenstreek se encuentran no menos de ocho ciudades históricas\n\n\n\n¿Un día libre? Lea nuestros consejos para un día de fiesta…\n\n\n\nEcha un vistazo a uno de los muchos museos de la Bollenstreek y sus alrededores.\n\n\n\n¿Te apetece un día activo? Disfruta de una de las rutas de ciclismo y caminata
URL:https://bollenstreek.nl/uitagenda/dia-del-rey-en-el-parque-floral-de-keukenhof/
LOCATION:Keukenhof\, Stationsweg 166A\, Lisse\, Zuid Holland\, 2161 AM\, Nederland
CATEGORIES:bloemen,bloemenfestival
ATTACH;FMTTYPE=image/jpeg:https://bollenstreek.nl/wp-content/uploads/2018/10/Koningsdag-Keukenhof.jpg
GEO:52.2682313;4.5438431
X-APPLE-STRUCTURED-LOCATION;VALUE=URI;X-ADDRESS=Keukenhof Stationsweg 166A Lisse Zuid Holland 2161 AM Nederland;X-APPLE-RADIUS=500;X-TITLE=Stationsweg 166A:geo:4.5438431,52.2682313
END:VEVENT
END:VCALENDAR